View In:
ArcGIS JavaScript
ArcGIS Online Map Viewer
ArcGIS Earth
Service Description: The data source for this image service is a Hillshade derived from a 10-meter DEM covering Wisconsin and portions of adjacent states. The service was published using a referenced mosaic dataset to which the Hillshade function was applied, with no vertical exaggeration factor. The Hillshade is intended for visualization of the landscape, rather than analysis. When queried, the Hillshade pixel values do not indicate elevation; instead, the pixel values range from 0 to 255 because the image is rendered as an 8-bit greyscale image. If elevation values are needed, use one of the DEM services found in the same service folder as the EN_Hillshade_10m service. WI DNR acknowledges the USGS for making source data available. For more information, visit https://dnr.wi.gov/feedback/ and choose Geographic Information Systems Data as the subject.
Name: DW_Elevation/EN_Hillshade_10m
Description: The data source for this image service is a Hillshade derived from a 10-meter DEM covering Wisconsin and portions of adjacent states. The service was published using a referenced mosaic dataset to which the Hillshade function was applied, with no vertical exaggeration factor. The Hillshade is intended for visualization of the landscape, rather than analysis. When queried, the Hillshade pixel values do not indicate elevation; instead, the pixel values range from 0 to 255 because the image is rendered as an 8-bit greyscale image. If elevation values are needed, use one of the DEM services found in the same service folder as the EN_Hillshade_10m service. WI DNR acknowledges the USGS for making source data available. For more information, visit https://dnr.wi.gov/feedback/ and choose Geographic Information Systems Data as the subject.
Single Fused Map Cache: false
Extent:
XMin: 183498.67899999954
YMin: 58679.00899999961
XMax: 856598.6789999995
YMax: 955239.0089999996
Spatial Reference: 3071
(3071)
LatestVCSWkid(0)
Initial Extent:
XMin: 183498.67899999954
YMin: 58679.00899999961
XMax: 856598.6789999995
YMax: 955239.0089999996
Spatial Reference: 3071
(3071)
LatestVCSWkid(0)
Full Extent:
XMin: 183498.67899999954
YMin: 58679.00899999961
XMax: 856598.6789999995
YMax: 955239.0089999996
Spatial Reference: 3071
(3071)
LatestVCSWkid(0)
Pixel Size X: 10.0
Pixel Size Y: 10.0
Band Count: 1
Pixel Type: U8
RasterFunction Infos: {"rasterFunctionInfos": [{
"name": "None",
"description": "A No-Op Function.",
"help": ""
}]}
Mensuration Capabilities: None
Inspection Capabilities:
Has Histograms: true
Has Colormap: false
Has Multi Dimensions : false
Rendering Rule:
Min Scale: 0
Max Scale: 0
Resampling: false
Copyright Text:
Service Data Type: esriImageServiceDataTypeProcessed
Min Values: 132.2911376953125
Max Values: 669.591796875
Mean Values: 295.62706252533445
Standard Deviation Values: 98.52402557823495
Object ID Field: OBJECTID
Fields:
-
OBJECTID
(
type: esriFieldTypeOID, alias: OBJECTID
)
-
Shape
(
type: esriFieldTypeGeometry, alias: Shape
)
-
Name
(
type: esriFieldTypeString, alias: Name, length: 200
)
-
MinPS
(
type: esriFieldTypeDouble, alias: MinPS
)
-
MaxPS
(
type: esriFieldTypeDouble, alias: MaxPS
)
-
LowPS
(
type: esriFieldTypeDouble, alias: LowPS
)
-
HighPS
(
type: esriFieldTypeDouble, alias: HighPS
)
-
Category
(
type: esriFieldTypeInteger, alias: Category
, Coded Values:
[0: Unknown]
, [1: Primary]
, [2: Overview]
, ...6 more...
)
-
Tag
(
type: esriFieldTypeString, alias: Tag, length: 100
)
-
GroupName
(
type: esriFieldTypeString, alias: GroupName, length: 100
)
-
ProductName
(
type: esriFieldTypeString, alias: ProductName, length: 100
)
-
CenterX
(
type: esriFieldTypeDouble, alias: CenterX
)
-
CenterY
(
type: esriFieldTypeDouble, alias: CenterY
)
-
ZOrder
(
type: esriFieldTypeInteger, alias: ZOrder
)
-
Shape_Length
(
type: esriFieldTypeDouble, alias: Shape_Length
)
-
Shape_Area
(
type: esriFieldTypeDouble, alias: Shape_Area
)
Default Mosaic Method: Northwest
Allowed Mosaic Methods: NorthWest,Center,LockRaster,ByAttribute,Nadir,Viewpoint,Seamline,None
SortField:
SortValue: null
Mosaic Operator: First
Default Compression Quality: 75
Default Resampling Method: Bilinear
Max Record Count: 1000
Max Image Height: 4100
Max Image Width: 15000
Max Download Image Count: 20
Max Mosaic Image Count: 20
Allow Raster Function: true
Allow Copy: true
Allow Analysis: true
Allow Compute TiePoints: false
Supports Statistics: true
Supports Advanced Queries: true
Use StandardizedQueries: true
Raster Type Infos:
Name: Raster Dataset
Description: Supports all ArcGIS Raster Datasets
Help:
Has Raster Attribute Table: false
Edit Fields Info: null
Ownership Based AccessControl For Rasters: null
Child Resources:
Info
Histograms
Statistics
Key Properties
Legend
Raster Function Infos
Supported Operations:
Export Image
Query
Identify
Compute Histograms
Compute Statistics Histograms
Get Samples
Compute Class Statistics
Query GPS Info
Find Images
Image to Map
Map to Image
Measure from Image
Image to Map Multiray
Query Boundary
Compute Pixel Location
Compute Angles
Validate
Project