{
 "currentVersion": 11.3,
 "serviceDescription": "The data source for this image service is a Hillshade derived from a 10-meter DEM covering Wisconsin and portions of adjacent states. The service was published using a referenced mosaic dataset to which the Hillshade function was applied, with no vertical exaggeration factor. \n\nThe Hillshade is intended for visualization of the landscape, rather than analysis. When queried, the Hillshade pixel values do not indicate elevation; instead, the pixel values range from 0 to 255 because the image is rendered as an 8-bit greyscale image. If elevation values are needed, use one of the DEM services found in the same service folder as the EN_Hillshade_10m service. \n\nWI DNR acknowledges the USGS for making source data available. For more information, visit https://dnr.wi.gov/feedback/ and choose Geographic Information Systems Data as the subject. \n",
 "name": "DW_Elevation/EN_Hillshade_10m",
 "description": "The data source for this image service is a Hillshade derived from a 10-meter DEM covering Wisconsin and portions of adjacent states. The service was published using a referenced mosaic dataset to which the Hillshade function was applied, with no vertical exaggeration factor. \n\nThe Hillshade is intended for visualization of the landscape, rather than analysis. When queried, the Hillshade pixel values do not indicate elevation; instead, the pixel values range from 0 to 255 because the image is rendered as an 8-bit greyscale image. If elevation values are needed, use one of the DEM services found in the same service folder as the EN_Hillshade_10m service. \n\nWI DNR acknowledges the USGS for making source data available. For more information, visit https://dnr.wi.gov/feedback/ and choose Geographic Information Systems Data as the subject. \n",
 "extent": {
  "xmin": 183498.67899999954,
  "ymin": 58679.00899999961,
  "xmax": 856598.6789999995,
  "ymax": 955239.0089999996,
  "spatialReference": {
   "wkid": 3071,
   "latestWkid": 3071
  }
 },
 "initialExtent": {
  "xmin": 183498.67899999954,
  "ymin": 58679.00899999961,
  "xmax": 856598.6789999995,
  "ymax": 955239.0089999996,
  "spatialReference": {
   "wkid": 3071,
   "latestWkid": 3071
  }
 },
 "fullExtent": {
  "xmin": 183498.67899999954,
  "ymin": 58679.00899999961,
  "xmax": 856598.6789999995,
  "ymax": 955239.0089999996,
  "spatialReference": {
   "wkid": 3071,
   "latestWkid": 3071
  }
 },
 "sortableFields": "",
 "bandCount": 1,
 "pixelType": "U8",
 "minValues": [
  132.2911376953125
 ],
 "maxValues": [
  669.591796875
 ],
 "meanValues": [
  295.62706252533445
 ],
 "stdvValues": [
  98.52402557823495
 ],
 "hasMultidimensions": false,
 "pixelSizeX": 10,
 "pixelSizeY": 10,
 "meanPixelSize": 10,
 "datasetFormat": "AMD",
 "uncompressedSize": 6034745360,
 "blockWidth": 2048,
 "blockHeight": 256,
 "compressionType": "None",
 "bandNames": [
  "Band_1"
 ],
 "allowCopy": true,
 "allowAnalysis": true,
 "itemAccess": false,
 "inspectionCapabilities": "",
 "minPixelSize": 0,
 "maxPixelSize": 0,
 "copyrightText": "",
 "serviceDataType": "esriImageServiceDataTypeProcessed",
 "serviceSourceType": "esriImageServiceSourceTypeMosaicDataset",
 "objectIdField": "OBJECTID",
 "fields": [
  {
   "name": "OBJECTID",
   "type": "esriFieldTypeOID",
   "alias": "OBJECTID",
   "domain": null
  },
  {
   "name": "Shape",
   "type": "esriFieldTypeGeometry",
   "alias": "Shape",
   "domain": null
  },
  {
   "name": "Name",
   "type": "esriFieldTypeString",
   "alias": "Name",
   "domain": null,
   "length": 200
  },
  {
   "name": "MinPS",
   "type": "esriFieldTypeDouble",
   "alias": "MinPS",
   "domain": null
  },
  {
   "name": "MaxPS",
   "type": "esriFieldTypeDouble",
   "alias": "MaxPS",
   "domain": null
  },
  {
   "name": "LowPS",
   "type": "esriFieldTypeDouble",
   "alias": "LowPS",
   "domain": null
  },
  {
   "name": "HighPS",
   "type": "esriFieldTypeDouble",
   "alias": "HighPS",
   "domain": null
  },
  {
   "name": "Category",
   "type": "esriFieldTypeInteger",
   "alias": "Category",
   "domain": {
    "type": "codedValue",
    "name": "MosaicCatalogItemCategoryDomain",
    "description": "Catalog item categories.",
    "codedValues": [
     {
      "name": "Unknown",
      "code": 0
     },
     {
      "name": "Primary",
      "code": 1
     },
     {
      "name": "Overview",
      "code": 2
     },
     {
      "name": "Unprocessed Overview",
      "code": 3
     },
     {
      "name": "Partial Overview",
      "code": 4
     },
     {
      "name": "Inactive",
      "code": 5
     },
     {
      "name": "Uploaded",
      "code": 253
     },
     {
      "name": "Incomplete",
      "code": 254
     },
     {
      "name": "Custom",
      "code": 255
     }
    ],
    "mergePolicy": "esriMPTDefaultValue",
    "splitPolicy": "esriSPTDefaultValue"
   }
  },
  {
   "name": "Tag",
   "type": "esriFieldTypeString",
   "alias": "Tag",
   "domain": null,
   "length": 100
  },
  {
   "name": "GroupName",
   "type": "esriFieldTypeString",
   "alias": "GroupName",
   "domain": null,
   "length": 100
  },
  {
   "name": "ProductName",
   "type": "esriFieldTypeString",
   "alias": "ProductName",
   "domain": null,
   "length": 100
  },
  {
   "name": "CenterX",
   "type": "esriFieldTypeDouble",
   "alias": "CenterX",
   "domain": null
  },
  {
   "name": "CenterY",
   "type": "esriFieldTypeDouble",
   "alias": "CenterY",
   "domain": null
  },
  {
   "name": "ZOrder",
   "type": "esriFieldTypeInteger",
   "alias": "ZOrder",
   "domain": null
  },
  {
   "name": "Shape_Length",
   "type": "esriFieldTypeDouble",
   "alias": "Shape_Length",
   "domain": null
  },
  {
   "name": "Shape_Area",
   "type": "esriFieldTypeDouble",
   "alias": "Shape_Area",
   "domain": null
  }
 ],
 "capabilities": "Catalog,Image,Metadata",
 "defaultMosaicMethod": "Northwest",
 "allowedMosaicMethods": "NorthWest,Center,LockRaster,ByAttribute,Nadir,Viewpoint,Seamline,None",
 "sortField": "",
 "sortValue": null,
 "sortAscending": true,
 "mosaicOperator": "First",
 "maxDownloadSizeLimit": 2048,
 "defaultCompressionQuality": 75,
 "defaultResamplingMethod": "Bilinear",
 "maxImageHeight": 4100,
 "maxImageWidth": 15000,
 "maxRecordCount": 1000,
 "maxDownloadImageCount": 20,
 "maxMosaicImageCount": 20,
 "allowRasterFunction": true,
 "rasterFunctionInfos": [
  {
   "name": "None",
   "description": "A No-Op Function.",
   "help": ""
  }
 ],
 "rasterTypeInfos": [
  {
   "name": "Raster Dataset",
   "description": "Supports all ArcGIS Raster Datasets",
   "help": ""
  }
 ],
 "mensurationCapabilities": "None",
 "hasHistograms": true,
 "hasColormap": false,
 "hasRasterAttributeTable": false,
 "minScale": 0,
 "maxScale": 0,
 "exportTilesAllowed": false,
 "supportsStatistics": true,
 "supportsAdvancedQueries": true,
 "editFieldsInfo": null,
 "ownershipBasedAccessControlForRasters": null,
 "allowComputeTiePoints": false,
 "useStandardizedQueries": true,
 "advancedQueryCapabilities": {
  "useStandardizedQueries": true,
  "supportsStatistics": true,
  "supportsOrderBy": true,
  "supportsDistinct": true,
  "supportsPagination": true
 },
 "spatialReference": {
  "wkid": 3071,
  "latestWkid": 3071
 },
 "resampling": false
}
