View In:
ArcGIS JavaScript
ArcGIS Online Map Viewer
ArcGIS Earth
Service Description: The data sources for this image service are DEMs from the US Geological Survey’s 10-by-10-meter National Elevation Dataset (NED), downloaded as 1-by-1-degree tiles from this USGS site in August 2012: http://cumulus.cr.usgs.gov/webappcontent/neddownloadtool/NEDDownloadToolDMS.html.in Using the 10-meter NED tiled DEMs, WI DNR staff created a mosaic 32-bit Float Grid covering Wisconsin and portions of adjacent states and projected the data to the Wisconsin Transverse Mercator (WTM) coordinate referencing system based on the 1991 adjustment to NAD83 – WTM83(1991). The Grid was snapped to the Wiscland 1.0 Land Cover Grid (see: https://dnr.wi.gov/maps/WISCLAND.html), and clipped to an extent of the state of Wisconsin plus a 15,000-meter buffer. The 10-meter DEMs have not been hydrologically conditioned. Elevations are expressed as meters relative to the North American Vertical Datum of 1988 (NAVD88). The DEM is intended for analysis rather than visualization of the landscape. For landscape visualization purposes, use one of the Hillshade services found in the same service folder as the EN_DEM_10m_WI service.
WI DNR acknowledges the USGS for making source data available. For more information, visit https://dnr.wi.gov/feedback/ and choose Geographic Information Systems Data as the subject.
Name: DW_Elevation/EN_DEM_10m_WI
Description: The data sources for this image service are DEMs from the US Geological Survey’s 10-by-10-meter National Elevation Dataset (NED), downloaded as 1-by-1-degree tiles from this USGS site in August 2012: http://cumulus.cr.usgs.gov/webappcontent/neddownloadtool/NEDDownloadToolDMS.html.in Using the 10-meter NED tiled DEMs, WI DNR staff created a mosaic 32-bit Float Grid covering Wisconsin and portions of adjacent states and projected the data to the Wisconsin Transverse Mercator (WTM) coordinate referencing system based on the 1991 adjustment to NAD83 – WTM83(1991). The Grid was snapped to the Wiscland 1.0 Land Cover Grid (see: https://dnr.wi.gov/maps/WISCLAND.html), and clipped to an extent of the state of Wisconsin plus a 15,000-meter buffer. The 10-meter DEMs have not been hydrologically conditioned. Elevations are expressed as meters relative to the North American Vertical Datum of 1988 (NAVD88). The DEM is intended for analysis rather than visualization of the landscape. For landscape visualization purposes, use one of the Hillshade services found in the same service folder as the EN_DEM_10m_WI service.
WI DNR acknowledges the USGS for making source data available. For more information, visit https://dnr.wi.gov/feedback/ and choose Geographic Information Systems Data as the subject.
Single Fused Map Cache: false
Extent:
XMin: 279828.679
YMin: 210109.00899999996
XMax: 788248.679
YMax: 749409.009
Spatial Reference: 3071
(3071)
LatestVCSWkid(0)
Initial Extent:
XMin: 279828.679
YMin: 210109.00899999996
XMax: 788248.679
YMax: 749409.009
Spatial Reference: 3071
(3071)
LatestVCSWkid(0)
Full Extent:
XMin: 279828.679
YMin: 210109.00899999996
XMax: 788248.679
YMax: 749409.009
Spatial Reference: 3071
(3071)
LatestVCSWkid(0)
Pixel Size X: 10.0
Pixel Size Y: 10.0
Band Count: 1
Pixel Type: F32
RasterFunction Infos: {"rasterFunctionInfos": [{
"name": "None",
"description": "",
"help": ""
}]}
Mensuration Capabilities: None
Inspection Capabilities:
Has Histograms: true
Has Colormap: false
Has Multi Dimensions : false
Rendering Rule:
Min Scale: 0
Max Scale: 0
Resampling: false
Copyright Text:
Service Data Type: esriImageServiceDataTypeGeneric
Min Values: 149.29800415039062
Max Values: 583.4861450195312
Mean Values: 316.26393963583473
Standard Deviation Values: 89.61391438933035
Object ID Field: OBJECTID
Fields:
-
OBJECTID
(
type: esriFieldTypeOID, alias: OBJECTID
)
-
Shape
(
type: esriFieldTypeGeometry, alias: Shape
)
-
Name
(
type: esriFieldTypeString, alias: Name, length: 200
)
-
MinPS
(
type: esriFieldTypeDouble, alias: MinPS
)
-
MaxPS
(
type: esriFieldTypeDouble, alias: MaxPS
)
-
LowPS
(
type: esriFieldTypeDouble, alias: LowPS
)
-
HighPS
(
type: esriFieldTypeDouble, alias: HighPS
)
-
Category
(
type: esriFieldTypeInteger, alias: Category
, Coded Values:
[0: Unknown]
, [1: Primary]
, [2: Overview]
, ...6 more...
)
-
Tag
(
type: esriFieldTypeString, alias: Tag, length: 100
)
-
GroupName
(
type: esriFieldTypeString, alias: GroupName, length: 100
)
-
ProductName
(
type: esriFieldTypeString, alias: ProductName, length: 100
)
-
CenterX
(
type: esriFieldTypeDouble, alias: CenterX
)
-
CenterY
(
type: esriFieldTypeDouble, alias: CenterY
)
-
ZOrder
(
type: esriFieldTypeInteger, alias: ZOrder
)
-
Shape_Length
(
type: esriFieldTypeDouble, alias: Shape_Length
)
-
Shape_Area
(
type: esriFieldTypeDouble, alias: Shape_Area
)
Default Mosaic Method: Northwest
Allowed Mosaic Methods: NorthWest,Center,LockRaster,ByAttribute,Nadir,Viewpoint,Seamline,None
SortField:
SortValue: null
Mosaic Operator: First
Default Compression Quality: 75
Default Resampling Method: Bilinear
Max Record Count: 1000
Max Image Height: 4100
Max Image Width: 15000
Max Download Image Count: 20
Max Mosaic Image Count: 20
Allow Raster Function: true
Allow Copy: true
Allow Analysis: true
Allow Compute TiePoints: false
Supports Statistics: true
Supports Advanced Queries: true
Use StandardizedQueries: true
Raster Type Infos:
Name: Raster Dataset
Description: Supports all ArcGIS Raster Datasets
Help:
Has Raster Attribute Table: false
Edit Fields Info: null
Ownership Based AccessControl For Rasters: null
Child Resources:
Info
Histograms
Statistics
Key Properties
Legend
Raster Function Infos
Supported Operations:
Export Image
Query
Identify
Compute Histograms
Compute Statistics Histograms
Get Samples
Compute Class Statistics
Query GPS Info
Find Images
Image to Map
Map to Image
Measure from Image
Image to Map Multiray
Query Boundary
Compute Pixel Location
Compute Angles
Validate
Project