{
 "currentVersion": 11.3,
 "serviceDescription": "The data sources for this image service are DEMs from the US Geological Survey\u2019s 10-by-10-meter National Elevation Dataset (NED), downloaded as 1-by-1-degree tiles from this USGS site in August 2012: http://cumulus.cr.usgs.gov/webappcontent/neddownloadtool/NEDDownloadToolDMS.html.in \n\nUsing the 10-meter NED tiled DEMs, WI DNR staff created a mosaic 32-bit Float Grid covering Wisconsin and portions of adjacent states and projected the data to the Wisconsin Transverse Mercator (WTM) coordinate referencing system based on the 1991 adjustment to NAD83 \u2013 WTM83(1991). The Grid was snapped to the Wiscland 1.0 Land Cover Grid (see: https://dnr.wi.gov/maps/WISCLAND.html), and clipped to an extent of the state of Wisconsin plus a 15,000-meter buffer. \n\nThe 10-meter DEMs have not been hydrologically conditioned. Elevations are expressed as meters relative to the North American Vertical Datum of 1988 (NAVD88). The DEM is intended for analysis rather than visualization of the landscape. For landscape visualization purposes, use one of the Hillshade services found in the same service folder as the EN_DEM_10m_WI service.\n\nWI DNR acknowledges the USGS for making source data available. For more information, visit https://dnr.wi.gov/feedback/ and choose Geographic Information Systems Data as the subject. ",
 "name": "DW_Elevation/EN_DEM_10m_WI",
 "description": "The data sources for this image service are DEMs from the US Geological Survey\u2019s 10-by-10-meter National Elevation Dataset (NED), downloaded as 1-by-1-degree tiles from this USGS site in August 2012: http://cumulus.cr.usgs.gov/webappcontent/neddownloadtool/NEDDownloadToolDMS.html.in \n\nUsing the 10-meter NED tiled DEMs, WI DNR staff created a mosaic 32-bit Float Grid covering Wisconsin and portions of adjacent states and projected the data to the Wisconsin Transverse Mercator (WTM) coordinate referencing system based on the 1991 adjustment to NAD83 \u2013 WTM83(1991). The Grid was snapped to the Wiscland 1.0 Land Cover Grid (see: https://dnr.wi.gov/maps/WISCLAND.html), and clipped to an extent of the state of Wisconsin plus a 15,000-meter buffer. \n\nThe 10-meter DEMs have not been hydrologically conditioned. Elevations are expressed as meters relative to the North American Vertical Datum of 1988 (NAVD88). The DEM is intended for analysis rather than visualization of the landscape. For landscape visualization purposes, use one of the Hillshade services found in the same service folder as the EN_DEM_10m_WI service.\n\nWI DNR acknowledges the USGS for making source data available. For more information, visit https://dnr.wi.gov/feedback/ and choose Geographic Information Systems Data as the subject. ",
 "extent": {
  "xmin": 279828.679,
  "ymin": 210109.00899999996,
  "xmax": 788248.679,
  "ymax": 749409.009,
  "spatialReference": {
   "wkid": 3071,
   "latestWkid": 3071
  }
 },
 "initialExtent": {
  "xmin": 279828.679,
  "ymin": 210109.00899999996,
  "xmax": 788248.679,
  "ymax": 749409.009,
  "spatialReference": {
   "wkid": 3071,
   "latestWkid": 3071
  }
 },
 "fullExtent": {
  "xmin": 279828.679,
  "ymin": 210109.00899999996,
  "xmax": 788248.679,
  "ymax": 749409.009,
  "spatialReference": {
   "wkid": 3071,
   "latestWkid": 3071
  }
 },
 "sortableFields": "",
 "bandCount": 1,
 "pixelType": "F32",
 "minValues": [
  149.29800415039062
 ],
 "maxValues": [
  583.4861450195312
 ],
 "meanValues": [
  316.26393963583473
 ],
 "stdvValues": [
  89.61391438933035
 ],
 "hasMultidimensions": false,
 "pixelSizeX": 10,
 "pixelSizeY": 10,
 "meanPixelSize": 10,
 "datasetFormat": "AMD",
 "uncompressedSize": 10967636240,
 "blockWidth": 2048,
 "blockHeight": 256,
 "compressionType": "None",
 "bandNames": [
  "Band_1"
 ],
 "allowCopy": true,
 "allowAnalysis": true,
 "itemAccess": false,
 "inspectionCapabilities": "",
 "minPixelSize": 0,
 "maxPixelSize": 0,
 "copyrightText": "",
 "serviceDataType": "esriImageServiceDataTypeGeneric",
 "serviceSourceType": "esriImageServiceSourceTypeMosaicDataset",
 "objectIdField": "OBJECTID",
 "fields": [
  {
   "name": "OBJECTID",
   "type": "esriFieldTypeOID",
   "alias": "OBJECTID",
   "domain": null
  },
  {
   "name": "Shape",
   "type": "esriFieldTypeGeometry",
   "alias": "Shape",
   "domain": null
  },
  {
   "name": "Name",
   "type": "esriFieldTypeString",
   "alias": "Name",
   "domain": null,
   "length": 200
  },
  {
   "name": "MinPS",
   "type": "esriFieldTypeDouble",
   "alias": "MinPS",
   "domain": null
  },
  {
   "name": "MaxPS",
   "type": "esriFieldTypeDouble",
   "alias": "MaxPS",
   "domain": null
  },
  {
   "name": "LowPS",
   "type": "esriFieldTypeDouble",
   "alias": "LowPS",
   "domain": null
  },
  {
   "name": "HighPS",
   "type": "esriFieldTypeDouble",
   "alias": "HighPS",
   "domain": null
  },
  {
   "name": "Category",
   "type": "esriFieldTypeInteger",
   "alias": "Category",
   "domain": {
    "type": "codedValue",
    "name": "MosaicCatalogItemCategoryDomain",
    "description": "Catalog item categories.",
    "codedValues": [
     {
      "name": "Unknown",
      "code": 0
     },
     {
      "name": "Primary",
      "code": 1
     },
     {
      "name": "Overview",
      "code": 2
     },
     {
      "name": "Unprocessed Overview",
      "code": 3
     },
     {
      "name": "Partial Overview",
      "code": 4
     },
     {
      "name": "Inactive",
      "code": 5
     },
     {
      "name": "Uploaded",
      "code": 253
     },
     {
      "name": "Incomplete",
      "code": 254
     },
     {
      "name": "Custom",
      "code": 255
     }
    ],
    "mergePolicy": "esriMPTDefaultValue",
    "splitPolicy": "esriSPTDefaultValue"
   }
  },
  {
   "name": "Tag",
   "type": "esriFieldTypeString",
   "alias": "Tag",
   "domain": null,
   "length": 100
  },
  {
   "name": "GroupName",
   "type": "esriFieldTypeString",
   "alias": "GroupName",
   "domain": null,
   "length": 100
  },
  {
   "name": "ProductName",
   "type": "esriFieldTypeString",
   "alias": "ProductName",
   "domain": null,
   "length": 100
  },
  {
   "name": "CenterX",
   "type": "esriFieldTypeDouble",
   "alias": "CenterX",
   "domain": null
  },
  {
   "name": "CenterY",
   "type": "esriFieldTypeDouble",
   "alias": "CenterY",
   "domain": null
  },
  {
   "name": "ZOrder",
   "type": "esriFieldTypeInteger",
   "alias": "ZOrder",
   "domain": null
  },
  {
   "name": "Shape_Length",
   "type": "esriFieldTypeDouble",
   "alias": "Shape_Length",
   "domain": null
  },
  {
   "name": "Shape_Area",
   "type": "esriFieldTypeDouble",
   "alias": "Shape_Area",
   "domain": null
  }
 ],
 "capabilities": "Catalog,Image,Metadata",
 "defaultMosaicMethod": "Northwest",
 "allowedMosaicMethods": "NorthWest,Center,LockRaster,ByAttribute,Nadir,Viewpoint,Seamline,None",
 "sortField": "",
 "sortValue": null,
 "sortAscending": true,
 "mosaicOperator": "First",
 "maxDownloadSizeLimit": 2048,
 "defaultCompressionQuality": 75,
 "defaultResamplingMethod": "Bilinear",
 "maxImageHeight": 4100,
 "maxImageWidth": 15000,
 "maxRecordCount": 1000,
 "maxDownloadImageCount": 20,
 "maxMosaicImageCount": 20,
 "allowRasterFunction": true,
 "rasterFunctionInfos": [
  {
   "name": "None",
   "description": "",
   "help": ""
  }
 ],
 "rasterTypeInfos": [
  {
   "name": "Raster Dataset",
   "description": "Supports all ArcGIS Raster Datasets",
   "help": ""
  }
 ],
 "mensurationCapabilities": "None",
 "hasHistograms": true,
 "hasColormap": false,
 "hasRasterAttributeTable": false,
 "minScale": 0,
 "maxScale": 0,
 "exportTilesAllowed": false,
 "supportsStatistics": true,
 "supportsAdvancedQueries": true,
 "editFieldsInfo": null,
 "ownershipBasedAccessControlForRasters": null,
 "allowComputeTiePoints": false,
 "useStandardizedQueries": true,
 "advancedQueryCapabilities": {
  "useStandardizedQueries": true,
  "supportsStatistics": true,
  "supportsOrderBy": true,
  "supportsDistinct": true,
  "supportsPagination": true
 },
 "spatialReference": {
  "wkid": 3071,
  "latestWkid": 3071
 },
 "resampling": false
}
