View In:
ArcGIS JavaScript
ArcGIS Online Map Viewer
ArcGIS Earth
Service Description: 2020 relative abundance of canvasback ducks, generated by the Cornell Lab of Ornithology based on ebird (ebird.org) fall observations from 2006 to 2020.
Name: WM_WSHED/WM_Canvasback_Duck_Fall_Relative_Abundance
Description: 2020 relative abundance of canvasback ducks, generated by the Cornell Lab of Ornithology based on ebird (ebird.org) fall observations from 2006 to 2020.
Single Fused Map Cache: false
Extent:
XMin: 294839.570230208
YMin: 225107.94366919796
XMax: 769839.570230208
YMax: 734107.943669198
Spatial Reference: 0
(0)
LatestVCSWkid(0)
Initial Extent:
XMin: 294839.570230208
YMin: 225107.94366919796
XMax: 769839.570230208
YMax: 734107.943669198
Spatial Reference: 0
(0)
LatestVCSWkid(0)
Full Extent:
XMin: 294839.570230208
YMin: 225107.94366919796
XMax: 769839.570230208
YMax: 734107.943669198
Spatial Reference: 0
(0)
LatestVCSWkid(0)
Pixel Size X: 1000.0
Pixel Size Y: 1000.0
Band Count: 1
Pixel Type: F32
RasterFunction Infos: {"rasterFunctionInfos": [{
"name": "None",
"description": "",
"help": ""
}]}
Mensuration Capabilities: Basic
Inspection Capabilities:
Has Histograms: false
Has Colormap: false
Has Multi Dimensions : false
Rendering Rule:
Min Scale: 0
Max Scale: 0
Resampling: false
Copyright Text: Cornell Lab of Ornithology
Service Data Type: esriImageServiceDataTypeGeneric
Min Values: 0
Max Values: 1574.1025343413
Mean Values: 2.314631424554
Standard Deviation Values: 42.181747798798
Object ID Field:
Fields:
None
Default Mosaic Method: Center
Allowed Mosaic Methods:
SortField:
SortValue: null
Mosaic Operator: First
Default Compression Quality: 75
Default Resampling Method: Bilinear
Max Record Count: null
Max Image Height: 4100
Max Image Width: 15000
Max Download Image Count: null
Max Mosaic Image Count: null
Allow Raster Function: true
Allow Copy: true
Allow Analysis: true
Allow Compute TiePoints: false
Supports Statistics: false
Supports Advanced Queries: false
Use StandardizedQueries: true
Raster Type Infos:
Name: Raster Dataset
Description: Supports all ArcGIS Raster Datasets
Help:
Has Raster Attribute Table: false
Edit Fields Info: null
Ownership Based AccessControl For Rasters: null
Child Resources:
Info
Statistics
Key Properties
Legend
Raster Function Infos
Supported Operations:
Export Image
Identify
Measure
Compute Histograms
Compute Statistics Histograms
Get Samples
Compute Class Statistics
Query Boundary
Compute Pixel Location
Compute Angles
Validate
Project