View In:
ArcGIS JavaScript
ArcGIS Online Map Viewer
ArcGIS Earth
ArcMap
View Footprint In:
ArcGIS Online Map Viewer
Service Description: Heat index across the City of Milwaukee on the afternoon (3 – 4pm) of July 22, 2022.
Name: FR_URBAN_FORESTRY/FR_Heat_Index_2022_Summer_Afternoon_Milwaukee
Description: Heat index across the City of Milwaukee on the afternoon (3 – 4pm) of July 22, 2022.
Single Fused Map Cache: false
Extent:
XMin: 674045.7766376397
YMin: 271106.526874152
XMax: 697115.7766376397
YMax: 307436.526874152
Spatial Reference: 3071
(3071)
Initial Extent:
XMin: 674045.7766376397
YMin: 271106.526874152
XMax: 697115.7766376397
YMax: 307436.526874152
Spatial Reference: 3071
(3071)
Full Extent:
XMin: 674045.7766376397
YMin: 271106.526874152
XMax: 697115.7766376397
YMax: 307436.526874152
Spatial Reference: 3071
(3071)
Pixel Size X: 10.0
Pixel Size Y: 10.0
Band Count: 1
Pixel Type: F32
RasterFunction Infos: {"rasterFunctionInfos": [{
"name": "None",
"description": "",
"help": ""
}]}
Mensuration Capabilities: Basic
Has Histograms: true
Has Colormap: false
Has Multi Dimensions : false
Rendering Rule:
Min Scale: 0
Max Scale: 0
Copyright Text:
Service Data Type: esriImageServiceDataTypeGeneric
Min Values: 86.330184936523
Max Values: 91.60205078125
Mean Values: 88.607794424893
Standard Deviation Values: 0.50929575521536
Object ID Field:
Fields:
None
Default Mosaic Method: Center
Allowed Mosaic Methods:
SortField:
SortValue: null
Mosaic Operator: First
Default Compression Quality: 75
Default Resampling Method: Bilinear
Max Record Count: null
Max Image Height: 4100
Max Image Width: 15000
Max Download Image Count: null
Max Mosaic Image Count: null
Allow Raster Function: true
Allow Copy: true
Allow Analysis: true
Allow Compute TiePoints: false
Supports Statistics: false
Supports Advanced Queries: false
Use StandardizedQueries: true
Raster Type Infos:
Name: Raster Dataset
Description: Supports all ArcGIS Raster Datasets
Help:
Has Raster Attribute Table: false
Edit Fields Info: null
Ownership Based AccessControl For Rasters: null
Child Resources:
Info
Histograms
Statistics
Key Properties
Legend
Raster Function Infos
Supported Operations:
Export Image
Identify
Measure
Compute Histograms
Compute Statistics Histograms
Get Samples
Compute Class Statistics
Query Boundary
Compute Pixel Location
Compute Angles
Validate
Project