View In:
ArcGIS JavaScript
ArcGIS Online Map Viewer
ArcGIS Earth
Service Description: This land classification layer was derived from 2013 National Agricultural Imagery Program (NAIP) images. It classifies land within all municipal boundaries and Census-defined urban areas into one of five categories: tree/shrub, grass/herbaceous, impervious surface, water or wetland. The original process classified land into three types, but then water and wetland areas were masked out using polygons provided by the DNR. Pixel size is 1-meter.
Name: FR_URBAN_FORESTRY/FR_Community_Tree_Canopy
Description: This land classification layer was derived from 2013 National Agricultural Imagery Program (NAIP) images. It classifies land within all municipal boundaries and Census-defined urban areas into one of five categories: tree/shrub, grass/herbaceous, impervious surface, water or wetland. The original process classified land into three types, but then water and wetland areas were masked out using polygons provided by the DNR. Pixel size is 1-meter.
Single Fused Map Cache: false
Extent:
XMin: 297012.742753763
YMin: 224244.84918736096
XMax: 748365.742753763
YMax: 707014.849187361
Spatial Reference: 3071
(3071)
LatestVCSWkid(0)
Initial Extent:
XMin: 297012.742753763
YMin: 224244.84918736096
XMax: 748365.742753763
YMax: 707014.849187361
Spatial Reference: 3071
(3071)
LatestVCSWkid(0)
Full Extent:
XMin: 297012.742753763
YMin: 224244.84918736096
XMax: 748365.742753763
YMax: 707014.849187361
Spatial Reference: 3071
(3071)
LatestVCSWkid(0)
Pixel Size X: 1.0
Pixel Size Y: 1.0
Band Count: 1
Pixel Type: U8
RasterFunction Infos: {"rasterFunctionInfos": [
{
"name": "Canopy_Raster_Colors_ColorBlindFriendly_5_18_18",
"description": "A raster function template.",
"help": ""
},
{
"name": "Canopy_Raster_Function_Template_2_22_18_XML",
"description": "A raster function template.",
"help": ""
},
{
"name": "None",
"description": "A No-Op Function.",
"help": ""
}
]}
Mensuration Capabilities: None
Inspection Capabilities:
Has Histograms: true
Has Colormap: false
Has Multi Dimensions : false
Rendering Rule:
Min Scale: 0
Max Scale: 0
Resampling: false
Copyright Text: University of Wisconsin – Madison; Wisconsin Department of Natural Resources
Service Data Type: esriImageServiceDataTypeGeneric
Min Values: 0
Max Values: 11
Mean Values: 2.96749303748345
Standard Deviation Values: 1.52011626073508
Object ID Field: OBJECTID
Fields:
-
OBJECTID
(
type: esriFieldTypeOID, alias: OBJECTID
)
-
Shape
(
type: esriFieldTypeGeometry, alias: Shape
)
-
Name
(
type: esriFieldTypeString, alias: Name, length: 200
)
-
MinPS
(
type: esriFieldTypeDouble, alias: MinPS
)
-
MaxPS
(
type: esriFieldTypeDouble, alias: MaxPS
)
-
LowPS
(
type: esriFieldTypeDouble, alias: LowPS
)
-
HighPS
(
type: esriFieldTypeDouble, alias: HighPS
)
-
Category
(
type: esriFieldTypeInteger, alias: Category
, Coded Values:
[0: Unknown]
, [1: Primary]
, [2: Overview]
, ...5 more...
)
-
Tag
(
type: esriFieldTypeString, alias: Tag, length: 100
)
-
GroupName
(
type: esriFieldTypeString, alias: GroupName, length: 100
)
-
ProductName
(
type: esriFieldTypeString, alias: ProductName, length: 100
)
-
CenterX
(
type: esriFieldTypeDouble, alias: CenterX
)
-
CenterY
(
type: esriFieldTypeDouble, alias: CenterY
)
-
ZOrder
(
type: esriFieldTypeInteger, alias: ZOrder
)
-
Shape_Length
(
type: esriFieldTypeDouble, alias: Shape_Length
)
-
Shape_Area
(
type: esriFieldTypeDouble, alias: Shape_Area
)
Default Mosaic Method: Northwest
Allowed Mosaic Methods: NorthWest,Center,LockRaster,ByAttribute,Nadir,Viewpoint,Seamline,None
SortField:
SortValue: null
Mosaic Operator: First
Default Compression Quality: 75
Default Resampling Method: Nearest
Max Record Count: 1000
Max Image Height: 4100
Max Image Width: 15000
Max Download Image Count: 20
Max Mosaic Image Count: 20
Allow Raster Function: true
Allow Copy: true
Allow Analysis: true
Allow Compute TiePoints: false
Supports Statistics: true
Supports Advanced Queries: true
Use StandardizedQueries: true
Raster Type Infos:
Name: Raster Dataset
Description: Supports all ArcGIS Raster Datasets
Help:
Has Raster Attribute Table: false
Edit Fields Info: null
Ownership Based AccessControl For Rasters: null
Child Resources:
Info
Histograms
Statistics
Key Properties
Legend
Raster Function Infos
Supported Operations:
Export Image
Query
Identify
Compute Histograms
Compute Statistics Histograms
Get Samples
Compute Class Statistics
Query GPS Info
Find Images
Image to Map
Map to Image
Measure from Image
Image to Map Multiray
Query Boundary
Compute Pixel Location
Compute Angles
Validate
Project