View In:
ArcGIS JavaScript
ArcGIS Online Map Viewer
ArcGIS Earth
Service Description: Georeferenced Statewide Bedrock Geologic Map of Wisconsin, 1982. The Statewide Bedrock Geologic Map of Wisconsin was developed to provide a reliable, accurate and detailed representation of the state’s subsurface geology. It supports a variety of applications, including geological research, land-use planning, resource management, environmental conservation, education, public outreach, and policy development. By offering insights into the composition, structure, and distribution of bedrock formations, the map aids in identifying potential geological hazards and areas of scientific or ecological significance and helps planners, researchers, and decision-makers make informed choices.
The statewide geologic map symbol for each formation is standardized for consistency and can be found in the accompanying legend. The legend provides essential information, including formation names, lithologic descriptions, geologic age, and the symbology used in the dataset.
This map and its data were developed by UW Extension- Geologic and Natural History Survey (WGNHS), Meredith E. Ostrom. Visit https://home.wgnhs.wisc.edu/maps-publications/ to search for WGNHS maps and contact WGNHS at info@wgnhs.wisc.edu
with any questions about this map or data.
The map was georeferenced for use in this service by the Wisconsin DNR Bureau of Drinking Water and Groundwater, Water Use Section at DNRDGGISAPPS@wisconsin.gov.
This data was mapped at a very small scale (ranging from 1:5,000,000 to 1:500,000), making it unsuitable for detailed local analysis or site-specific decision-making. Users are advised to consult local or higher-resolution datasets when conducting detailed analyses or making critical decisions.
This map is for informational purposes only and may not have been prepared for or be suitable for legal, engineering or surveying purposes. The user is solely responsible for verifying the accuracy of information before using for any purpose. By using this product for any purpose user agrees to be bound by all disclaimers found here: https://dnr.wisconsin.gov/legal.
Name: DW_WGNHS_Bedrock/EN_WGNHS_Bedrock_Geologic_Map_of_Wisconsin
Description: Georeferenced Statewide Bedrock Geologic Map of Wisconsin, 1982. The Statewide Bedrock Geologic Map of Wisconsin was developed to provide a reliable, accurate and detailed representation of the state’s subsurface geology. It supports a variety of applications, including geological research, land-use planning, resource management, environmental conservation, education, public outreach, and policy development. By offering insights into the composition, structure, and distribution of bedrock formations, the map aids in identifying potential geological hazards and areas of scientific or ecological significance and helps planners, researchers, and decision-makers make informed choices.
The statewide geologic map symbol for each formation is standardized for consistency and can be found in the accompanying legend. The legend provides essential information, including formation names, lithologic descriptions, geologic age, and the symbology used in the dataset.
This map and its data were developed by UW Extension- Geologic and Natural History Survey (WGNHS), Meredith E. Ostrom. Visit https://home.wgnhs.wisc.edu/maps-publications/ to search for WGNHS maps and contact WGNHS at info@wgnhs.wisc.edu
with any questions about this map or data.
The map was georeferenced for use in this service by the Wisconsin DNR Bureau of Drinking Water and Groundwater, Water Use Section at DNRDGGISAPPS@wisconsin.gov.
This data was mapped at a very small scale (ranging from 1:5,000,000 to 1:500,000), making it unsuitable for detailed local analysis or site-specific decision-making. Users are advised to consult local or higher-resolution datasets when conducting detailed analyses or making critical decisions.
This map is for informational purposes only and may not have been prepared for or be suitable for legal, engineering or surveying purposes. The user is solely responsible for verifying the accuracy of information before using for any purpose. By using this product for any purpose user agrees to be bound by all disclaimers found here: https://dnr.wisconsin.gov/legal.
Single Fused Map Cache: false
Extent:
XMin: -46828.42316424917
YMin: 166751.46760337648
XMax: 845187.6434547509
YMax: 777098.6135983765
Spatial Reference: 3071
(3071)
LatestVCSWkid(0)
Initial Extent:
XMin: -46828.42316424917
YMin: 166751.46760337648
XMax: 845187.6434547509
YMax: 777098.6135983765
Spatial Reference: 3071
(3071)
LatestVCSWkid(0)
Full Extent:
XMin: -46828.42316424917
YMin: 166751.46760337648
XMax: 845187.6434547509
YMax: 777098.6135983765
Spatial Reference: 3071
(3071)
LatestVCSWkid(0)
Pixel Size X: 64.484643
Pixel Size Y: 64.484643
Band Count: 3
Pixel Type: U8
RasterFunction Infos: {"rasterFunctionInfos": [{
"name": "None",
"description": "",
"help": ""
}]}
Mensuration Capabilities: Basic
Inspection Capabilities:
Has Histograms: true
Has Colormap: false
Has Multi Dimensions : false
Rendering Rule:
Min Scale: 0
Max Scale: 0
Resampling: false
Copyright Text: UW Extension WGNHS
Service Data Type: esriImageServiceDataTypeRGB
Min Values: 15, 18, 23
Max Values: 255, 255, 255
Mean Values: 222.77820481031, 217.76407141086, 203.58938755269
Standard Deviation Values: 52.057443867225, 53.454057185519, 67.065121188192
Object ID Field:
Fields:
None
Default Mosaic Method: Center
Allowed Mosaic Methods:
SortField:
SortValue: null
Mosaic Operator: First
Default Compression Quality: 75
Default Resampling Method: Bilinear
Max Record Count: null
Max Image Height: 4100
Max Image Width: 15000
Max Download Image Count: null
Max Mosaic Image Count: null
Allow Raster Function: true
Allow Copy: true
Allow Analysis: true
Allow Compute TiePoints: false
Supports Statistics: false
Supports Advanced Queries: false
Use StandardizedQueries: true
Raster Type Infos:
Name: Raster Dataset
Description: Supports all ArcGIS Raster Datasets
Help:
Has Raster Attribute Table: false
Edit Fields Info: null
Ownership Based AccessControl For Rasters: null
Child Resources:
Info
Histograms
Statistics
Key Properties
Legend
Raster Function Infos
Supported Operations:
Export Image
Identify
Measure
Compute Histograms
Compute Statistics Histograms
Get Samples
Compute Class Statistics
Query Boundary
Compute Pixel Location
Compute Angles
Validate
Project