View In:
ArcGIS JavaScript
ArcGIS Online Map Viewer
ArcGIS Earth
Service Description: The data source for this Image Service is statewide, 5-band multispectral leaf-on imagery of Wisconsin with 0.6-meter pixel resolution, from the 2024 USDA National Agricultural Imagery Program (NAIP). Flights occurred in the Summer and Fall of 2024 for the entire State of Wisconsin. The service has also been supplemented with 2025 NAIP data for counties in Minnesota and Iowa along the western Wisconsin border. WI DNR recognizes the USDA for making source data available; for more information, see: https://naip-usdaonline.hub.arcgis.com/
This service will be updated as newer NAIP imagery becomes available. For more information, visit https://dnr.wisconsin.gov/feedback and click on Geographic Services Information.
Name: DW_Imagery/EN_Image_Basemap_Latest_Leaf_On
Description: The data source for this Image Service is statewide, 5-band multispectral leaf-on imagery of Wisconsin with 0.6-meter pixel resolution, from the 2024 USDA National Agricultural Imagery Program (NAIP). Flights occurred in the Summer and Fall of 2024 for the entire State of Wisconsin. The service has also been supplemented with 2025 NAIP data for counties in Minnesota and Iowa along the western Wisconsin border. WI DNR recognizes the USDA for making source data available; for more information, see: https://naip-usdaonline.hub.arcgis.com/
This service will be updated as newer NAIP imagery becomes available. For more information, visit https://dnr.wisconsin.gov/feedback and click on Geographic Services Information.
Single Fused Map Cache: false
Extent:
XMin: 252402.3639528075
YMin: 197661.112847846
XMax: 774824.1639528071
YMax: 739498.9128478456
Spatial Reference: 3071
(3071)
LatestVCSWkid(0)
Initial Extent:
XMin: 252402.3639528075
YMin: 197661.112847846
XMax: 774824.1639528071
YMax: 739498.9128478456
Spatial Reference: 3071
(3071)
LatestVCSWkid(0)
Full Extent:
XMin: 252402.3639528075
YMin: 197661.112847846
XMax: 774824.1639528071
YMax: 739498.9128478456
Spatial Reference: 3071
(3071)
LatestVCSWkid(0)
Pixel Size X: 0.5999999999999995
Pixel Size Y: 0.5999999999999995
Band Count: 5
Pixel Type: U8
RasterFunction Infos: {"rasterFunctionInfos": [{
"name": "None",
"description": "",
"help": ""
}]}
Mensuration Capabilities: Basic
Inspection Capabilities:
Has Histograms: false
Has Colormap: false
Has Multi Dimensions : false
Rendering Rule:
Min Scale: 0
Max Scale: 0
Resampling: false
Copyright Text:
Service Data Type: esriImageServiceDataTypeGeneric
Min Values: N/A
Max Values: N/A
Mean Values: N/A
Standard Deviation Values: N/A
Object ID Field: OBJECTID
Fields:
-
OBJECTID
(
type: esriFieldTypeOID, alias: OBJECTID
)
-
Shape
(
type: esriFieldTypeGeometry, alias: Shape
)
-
Name
(
type: esriFieldTypeString, alias: Name, length: 200
)
-
MinPS
(
type: esriFieldTypeDouble, alias: MinPS
)
-
MaxPS
(
type: esriFieldTypeDouble, alias: MaxPS
)
-
LowPS
(
type: esriFieldTypeDouble, alias: LowPS
)
-
HighPS
(
type: esriFieldTypeDouble, alias: HighPS
)
-
Category
(
type: esriFieldTypeInteger, alias: Category
, Coded Values:
[0: Unknown]
, [1: Primary]
, [2: Overview]
, ...6 more...
)
-
Tag
(
type: esriFieldTypeString, alias: Tag, length: 100
)
-
GroupName
(
type: esriFieldTypeString, alias: GroupName, length: 100
)
-
ProductName
(
type: esriFieldTypeString, alias: ProductName, length: 100
)
-
CenterX
(
type: esriFieldTypeDouble, alias: CenterX
)
-
CenterY
(
type: esriFieldTypeDouble, alias: CenterY
)
-
ZOrder
(
type: esriFieldTypeInteger, alias: ZOrder
)
-
Shape_Length
(
type: esriFieldTypeDouble, alias: Shape_Length
)
-
Shape_Area
(
type: esriFieldTypeDouble, alias: Shape_Area
)
Default Mosaic Method: Northwest
Allowed Mosaic Methods: NorthWest,Center,LockRaster,ByAttribute,Nadir,Viewpoint,Seamline,None
SortField:
SortValue: null
Mosaic Operator: First
Default Compression Quality: 75
Default Resampling Method: Bilinear
Max Record Count: 1000
Max Image Height: 4100
Max Image Width: 15000
Max Download Image Count: 20
Max Mosaic Image Count: 20
Allow Raster Function: true
Allow Copy: true
Allow Analysis: true
Allow Compute TiePoints: false
Supports Statistics: true
Supports Advanced Queries: true
Use StandardizedQueries: true
Raster Type Infos:
Name: Raster Dataset
Description: Supports all ArcGIS Raster Datasets
Help:
Has Raster Attribute Table: false
Edit Fields Info: null
Ownership Based AccessControl For Rasters: null
Child Resources:
Info
Statistics
Key Properties
Legend
Raster Function Infos
Supported Operations:
Export Image
Query
Identify
Measure
Compute Histograms
Compute Statistics Histograms
Get Samples
Compute Class Statistics
Query GPS Info
Find Images
Image to Map
Map to Image
Measure from Image
Image to Map Multiray
Query Boundary
Compute Pixel Location
Compute Angles
Validate
Project