View In:
ArcGIS JavaScript
ArcGIS Online Map Viewer
ArcGIS Earth
Service Description: Image service presenting natural color, leaf-off imagery from WI Regional Orthophoto Consortium (WROC) 2020* and 2025**, the Southeast WI Regional Planning Commission (SEWRPC), and Door County 2021 imagery. A companion WI DNR map service is available (EN_Image_Basemap_Latest_Leaf_Off_Index) indicating the year of air photo acquisition, pixel resolution, and source image format for each county presented in this service. WI DNR recognizes the following organizations for making source data available: All counties and partners participating in the Wisconsin Regional Orthophoto Consortium (WROC) 2020 and 2025, Door County, and the Southeast WI Regional Planning Commission (SEWRPC). *WROC 2020 flights spanned over three years (2018, 2019 and 2020). **WROC 2020 flights spanned over three years (2023, 2024, and 2025), however only 2023 and 2024 data are currently present in this service. For more information, visit https://dnr.wi.gov/feedback/ and choose Geographic Information Systems Data as the subject.
Name: DW_Imagery/EN_Image_Basemap_Latest_Leaf_Off
Description: Image service presenting natural color, leaf-off imagery from WI Regional Orthophoto Consortium (WROC) 2020* and 2025**, the Southeast WI Regional Planning Commission (SEWRPC), and Door County 2021 imagery. A companion WI DNR map service is available (EN_Image_Basemap_Latest_Leaf_Off_Index) indicating the year of air photo acquisition, pixel resolution, and source image format for each county presented in this service. WI DNR recognizes the following organizations for making source data available: All counties and partners participating in the Wisconsin Regional Orthophoto Consortium (WROC) 2020 and 2025, Door County, and the Southeast WI Regional Planning Commission (SEWRPC). *WROC 2020 flights spanned over three years (2018, 2019 and 2020). **WROC 2020 flights spanned over three years (2023, 2024, and 2025), however only 2023 and 2024 data are currently present in this service. For more information, visit https://dnr.wi.gov/feedback/ and choose Geographic Information Systems Data as the subject.
Single Fused Map Cache: false
Extent:
XMin: 293809.4855671323
YMin: 224094.18793780368
XMax: 771009.4709671324
YMax: 735494.1811378037
Spatial Reference: 3071
(3071)
LatestVCSWkid(0)
Initial Extent:
XMin: 293809.4855671323
YMin: 224094.18793780368
XMax: 771009.4709671324
YMax: 735494.1811378037
Spatial Reference: 3071
(3071)
LatestVCSWkid(0)
Full Extent:
XMin: 293809.4855671323
YMin: 224094.18793780368
XMax: 771009.4709671324
YMax: 735494.1811378037
Spatial Reference: 3071
(3071)
LatestVCSWkid(0)
Pixel Size X: 0.0762
Pixel Size Y: 0.0762
Band Count: 3
Pixel Type: U8
RasterFunction Infos: {"rasterFunctionInfos": [{
"name": "None",
"description": "",
"help": ""
}]}
Mensuration Capabilities: Basic
Inspection Capabilities:
Has Histograms: false
Has Colormap: false
Has Multi Dimensions : false
Rendering Rule:
Min Scale: 0
Max Scale: 0
Resampling: false
Copyright Text:
Service Data Type: esriImageServiceDataTypeRGB
Min Values: N/A
Max Values: N/A
Mean Values: N/A
Standard Deviation Values: N/A
Object ID Field: OBJECTID
Fields:
-
OBJECTID
(
type: esriFieldTypeOID, alias: OBJECTID
)
-
Shape
(
type: esriFieldTypeGeometry, alias: Shape
)
-
Name
(
type: esriFieldTypeString, alias: Name, length: 200
)
-
MinPS
(
type: esriFieldTypeDouble, alias: MinPS
)
-
MaxPS
(
type: esriFieldTypeDouble, alias: MaxPS
)
-
LowPS
(
type: esriFieldTypeDouble, alias: LowPS
)
-
HighPS
(
type: esriFieldTypeDouble, alias: HighPS
)
-
Category
(
type: esriFieldTypeInteger, alias: Category
, Coded Values:
[0: Unknown]
, [1: Primary]
, [2: Overview]
, ...6 more...
)
-
Tag
(
type: esriFieldTypeString, alias: Tag, length: 100
)
-
GroupName
(
type: esriFieldTypeString, alias: GroupName, length: 100
)
-
ProductName
(
type: esriFieldTypeString, alias: ProductName, length: 100
)
-
CenterX
(
type: esriFieldTypeDouble, alias: CenterX
)
-
CenterY
(
type: esriFieldTypeDouble, alias: CenterY
)
-
ZOrder
(
type: esriFieldTypeInteger, alias: ZOrder
)
-
Shape_Length
(
type: esriFieldTypeDouble, alias: Shape_Length
)
-
Shape_Area
(
type: esriFieldTypeDouble, alias: Shape_Area
)
Default Mosaic Method: Northwest
Allowed Mosaic Methods: NorthWest,Center,LockRaster,ByAttribute,Nadir,Viewpoint,Seamline,None
SortField:
SortValue: null
Mosaic Operator: Last
Default Compression Quality: 75
Default Resampling Method: Nearest
Max Record Count: 1000
Max Image Height: 4100
Max Image Width: 15000
Max Download Image Count: 20
Max Mosaic Image Count: 20
Allow Raster Function: true
Allow Copy: true
Allow Analysis: true
Allow Compute TiePoints: false
Supports Statistics: true
Supports Advanced Queries: true
Use StandardizedQueries: true
Raster Type Infos:
Name: Raster Dataset
Description: Supports all ArcGIS Raster Datasets
Help:
Has Raster Attribute Table: false
Edit Fields Info: null
Ownership Based AccessControl For Rasters: null
Child Resources:
Info
Statistics
Key Properties
Legend
Raster Function Infos
Supported Operations:
Export Image
Query
Identify
Compute Histograms
Compute Statistics Histograms
Get Samples
Compute Class Statistics
Query GPS Info
Find Images
Image to Map
Map to Image
Measure from Image
Image to Map Multiray
Query Boundary
Compute Pixel Location
Compute Angles
Validate
Project