View In:
ArcGIS JavaScript
ArcGIS Online Map Viewer
ArcGIS Earth
Service Description: The data source for this Image Service contains statewide, natural color, leaf-on imagery of Wisconsin with 1-meter pixel resolution, from the 2015 USDA National Agricultural Imagery Program (NAIP). Flights occurred in the Summer and Fall of 2015 for the entire State of Wisconsin. For metadata, see: http://dnr.wi.gov/maps/gis/documents/NAIP_2015_Metadata.pdf.
DNR Recognizes US Department of Agriculture for making this data available
Name: DW_Imagery/EN_Image_Basemap_2015_Leaf_On
Description: The data source for this Image Service contains statewide, natural color, leaf-on imagery of Wisconsin with 1-meter pixel resolution, from the 2015 USDA National Agricultural Imagery Program (NAIP). Flights occurred in the Summer and Fall of 2015 for the entire State of Wisconsin. For metadata, see: http://dnr.wi.gov/maps/gis/documents/NAIP_2015_Metadata.pdf.
DNR Recognizes US Department of Agriculture for making this data available
Single Fused Map Cache: false
Extent:
XMin: 290555.5208342828
YMin: 218226.72877511167
XMax: 774923.5519832476
YMax: 739646.5244991353
Spatial Reference: 3071
(3071)
LatestVCSWkid(0)
Initial Extent:
XMin: 290555.5208342828
YMin: 218226.72877511167
XMax: 774923.5519832476
YMax: 739646.5244991353
Spatial Reference: 3071
(3071)
LatestVCSWkid(0)
Full Extent:
XMin: 290555.5208342828
YMin: 218226.72877511167
XMax: 774923.5519832476
YMax: 739646.5244991353
Spatial Reference: 3071
(3071)
LatestVCSWkid(0)
Pixel Size X: 0.9992924261033169
Pixel Size Y: 0.9992924261033169
Band Count: 3
Pixel Type: U8
RasterFunction Infos: {"rasterFunctionInfos": [{
"name": "None",
"description": "",
"help": ""
}]}
Mensuration Capabilities: None
Inspection Capabilities:
Has Histograms: true
Has Colormap: false
Has Multi Dimensions : false
Rendering Rule:
Min Scale: 0
Max Scale: 0
Resampling: false
Copyright Text:
Service Data Type: esriImageServiceDataTypeRGB
Min Values: 7, 3, 15
Max Values: 225, 225, 224
Mean Values: 87.20877388376321, 104.23364259769163, 80.17828247888663
Standard Deviation Values: 26.694829969967408, 21.826506139156, 17.85502269360573
Object ID Field: OBJECTID
Fields:
-
OBJECTID
(
type: esriFieldTypeOID, alias: OBJECTID
)
-
Shape
(
type: esriFieldTypeGeometry, alias: Shape
)
-
Name
(
type: esriFieldTypeString, alias: Name, length: 200
)
-
MinPS
(
type: esriFieldTypeDouble, alias: MinPS
)
-
MaxPS
(
type: esriFieldTypeDouble, alias: MaxPS
)
-
LowPS
(
type: esriFieldTypeDouble, alias: LowPS
)
-
HighPS
(
type: esriFieldTypeDouble, alias: HighPS
)
-
Category
(
type: esriFieldTypeInteger, alias: Category
, Coded Values:
[0: Unknown]
, [1: Primary]
, [2: Overview]
, ...6 more...
)
-
Tag
(
type: esriFieldTypeString, alias: Tag, length: 100
)
-
GroupName
(
type: esriFieldTypeString, alias: GroupName, length: 100
)
-
ProductName
(
type: esriFieldTypeString, alias: ProductName, length: 100
)
-
CenterX
(
type: esriFieldTypeDouble, alias: CenterX
)
-
CenterY
(
type: esriFieldTypeDouble, alias: CenterY
)
-
ZOrder
(
type: esriFieldTypeInteger, alias: ZOrder
)
-
Shape_Length
(
type: esriFieldTypeDouble, alias: Shape_Length
)
-
Shape_Area
(
type: esriFieldTypeDouble, alias: Shape_Area
)
Default Mosaic Method: Northwest
Allowed Mosaic Methods: NorthWest,Center,LockRaster,ByAttribute,Nadir,Viewpoint,Seamline,None
SortField:
SortValue: null
Mosaic Operator: First
Default Compression Quality: 75
Default Resampling Method: Nearest
Max Record Count: 1000
Max Image Height: 4100
Max Image Width: 15000
Max Download Image Count: 20
Max Mosaic Image Count: 20
Allow Raster Function: true
Allow Copy: true
Allow Analysis: true
Allow Compute TiePoints: false
Supports Statistics: true
Supports Advanced Queries: true
Use StandardizedQueries: true
Raster Type Infos:
Name: Raster Dataset
Description: Supports all ArcGIS Raster Datasets
Help:
Has Raster Attribute Table: false
Edit Fields Info: null
Ownership Based AccessControl For Rasters: null
Child Resources:
Info
Histograms
Statistics
Key Properties
Legend
Raster Function Infos
Supported Operations:
Export Image
Query
Identify
Compute Histograms
Compute Statistics Histograms
Get Samples
Compute Class Statistics
Query GPS Info
Find Images
Image to Map
Map to Image
Measure from Image
Image to Map Multiray
Query Boundary
Compute Pixel Location
Compute Angles
Validate
Project