View In:
ArcGIS JavaScript
ArcGIS Online Map Viewer
ArcGIS Earth
Service Description: This data set contains natural color, leaf-off imagery with 18-inch pixel resolution, from the 2010 Wisconsin Regional Orthophoto Consortium (WROC). Flights occurred in the Spring of 2010 for the entire State of Wisconsin. Re-flights were necessary for the eastern 4 mi of Columbia Co., parts of NW Oconto Co, and the south half of Lincoln Co. during the spring of 2011. For 2010 WROC product specifications, see: http://dnr.wi.gov/maps/gis/documents/WROC_2010_Specs.pdf. For metadata, see: http://dnr.wi.gov/maps/gis/documents/WROC_2010_Metadata.htm. Landsat Enhanced Thematic Mapper Plus (ETM+) imagery displays at map scales smaller than 1:760,000. The Landsat image resolution is 14.25 meters by 14.25 meters. Wisconsin DNR staff downloaded the Landsat mosaics in March 2010 from the USGS Global Visualization Viewer (GloVis) for use as a small-scale image backdrop for WDNR image services. For more information, visit https://dnr.wisconsin.gov/feedback and click on Geographic Services Information.
Name: DW_Imagery/EN_Image_Basemap_2010_Leaf_Off
Description: This data set contains natural color, leaf-off imagery with 18-inch pixel resolution, from the 2010 Wisconsin Regional Orthophoto Consortium (WROC). Flights occurred in the Spring of 2010 for the entire State of Wisconsin. Re-flights were necessary for the eastern 4 mi of Columbia Co., parts of NW Oconto Co, and the south half of Lincoln Co. during the spring of 2011. For 2010 WROC product specifications, see: http://dnr.wi.gov/maps/gis/documents/WROC_2010_Specs.pdf. For metadata, see: http://dnr.wi.gov/maps/gis/documents/WROC_2010_Metadata.htm. Landsat Enhanced Thematic Mapper Plus (ETM+) imagery displays at map scales smaller than 1:760,000. The Landsat image resolution is 14.25 meters by 14.25 meters. Wisconsin DNR staff downloaded the Landsat mosaics in March 2010 from the USGS Global Visualization Viewer (GloVis) for use as a small-scale image backdrop for WDNR image services. For more information, visit https://dnr.wisconsin.gov/feedback and click on Geographic Services Information.
Single Fused Map Cache: false
Extent:
XMin: 290808.24804900034
YMin: 218496.1252570002
XMax: 774422.0636489998
YMax: 739278.0148569996
Spatial Reference: 3071
(3071)
LatestVCSWkid(0)
Initial Extent:
XMin: 290808.24804900034
YMin: 218496.1252570002
XMax: 774422.0636489998
YMax: 739278.0148569996
Spatial Reference: 3071
(3071)
LatestVCSWkid(0)
Full Extent:
XMin: 290808.24804900034
YMin: 218496.1252570002
XMax: 774422.0636489998
YMax: 739278.0148569996
Spatial Reference: 3071
(3071)
LatestVCSWkid(0)
Pixel Size X: 0.4571999999999995
Pixel Size Y: 0.4571999999999995
Band Count: 3
Pixel Type: U8
RasterFunction Infos: {"rasterFunctionInfos": [{
"name": "None",
"description": "A No-Op Function.",
"help": ""
}]}
Mensuration Capabilities: None
Inspection Capabilities:
Has Histograms: true
Has Colormap: false
Has Multi Dimensions : false
Rendering Rule:
Min Scale: 0
Max Scale: 0
Resampling: false
Copyright Text:
Service Data Type: esriImageServiceDataTypeRGB
Min Values: 0, 0, 0
Max Values: 255, 255, 255
Mean Values: 116.01303601497611, 114.58052771828643, 110.34532197681507
Standard Deviation Values: 37.60140625194424, 34.89384797549268, 33.39142224352444
Object ID Field: OBJECTID
Fields:
-
OBJECTID
(
type: esriFieldTypeOID, alias: OBJECTID
)
-
Shape
(
type: esriFieldTypeGeometry, alias: Shape
)
-
Name
(
type: esriFieldTypeString, alias: Name, length: 200
)
-
MinPS
(
type: esriFieldTypeDouble, alias: MinPS
)
-
MaxPS
(
type: esriFieldTypeDouble, alias: MaxPS
)
-
LowPS
(
type: esriFieldTypeDouble, alias: LowPS
)
-
HighPS
(
type: esriFieldTypeDouble, alias: HighPS
)
-
Category
(
type: esriFieldTypeInteger, alias: Category
, Coded Values:
[0: Unknown]
, [1: Primary]
, [2: Overview]
, ...6 more...
)
-
Tag
(
type: esriFieldTypeString, alias: Tag, length: 100
)
-
GroupName
(
type: esriFieldTypeString, alias: GroupName, length: 100
)
-
ProductName
(
type: esriFieldTypeString, alias: ProductName, length: 100
)
-
CenterX
(
type: esriFieldTypeDouble, alias: CenterX
)
-
CenterY
(
type: esriFieldTypeDouble, alias: CenterY
)
-
ZOrder
(
type: esriFieldTypeInteger, alias: ZOrder
)
-
Shape_Length
(
type: esriFieldTypeDouble, alias: Shape_Length
)
-
Shape_Area
(
type: esriFieldTypeDouble, alias: Shape_Area
)
Default Mosaic Method: Northwest
Allowed Mosaic Methods: NorthWest,Center,LockRaster,ByAttribute,Nadir,Viewpoint,Seamline,None
SortField:
SortValue: null
Mosaic Operator: First
Default Compression Quality: 75
Default Resampling Method: Nearest
Max Record Count: 1000
Max Image Height: 4100
Max Image Width: 15000
Max Download Image Count: 20
Max Mosaic Image Count: 20
Allow Raster Function: true
Allow Copy: true
Allow Analysis: true
Allow Compute TiePoints: false
Supports Statistics: true
Supports Advanced Queries: true
Use StandardizedQueries: true
Raster Type Infos:
Name: Raster Dataset
Description: Supports all ArcGIS Raster Datasets
Help:
Has Raster Attribute Table: false
Edit Fields Info: null
Ownership Based AccessControl For Rasters: null
Child Resources:
Info
Histograms
Statistics
Key Properties
Legend
Raster Function Infos
Supported Operations:
Export Image
Query
Identify
Compute Histograms
Compute Statistics Histograms
Get Samples
Compute Class Statistics
Query GPS Info
Find Images
Image to Map
Map to Image
Measure from Image
Image to Map Multiray
Query Boundary
Compute Pixel Location
Compute Angles
Validate
Project