View In:
ArcGIS JavaScript
ArcGIS Online Map Viewer
ArcGIS Earth
Service Description: This service displays aerial photography from the USDA 2008 National Agricultural Imagery Program (NAIP); the air photos are 1-meter resolution, natural color, leaf-on. A 2008 NAIP air photo index, including aerial photo acquisition information by USGS 3.7 5-degree quarter-quadrangle, is available for query operations. At small to intermediate map scales, Landsat ETM Plus imagery displays. The NAIP aerial photography and Landsat satellite imagery display with partial transparency over Hillshade rasters derived from the US Geological Survey's 10-meter National Elevation Dataset (NED). DNR Recognizes the US Department of Agriculture for making this data available. For more information about this service, visit https://dnr.wisconsin.gov/feedback and click on Geographic Services Information.
Name: DW_Imagery/EN_Image_Basemap_2008_Leaf_On
Description: This service displays aerial photography from the USDA 2008 National Agricultural Imagery Program (NAIP); the air photos are 1-meter resolution, natural color, leaf-on. A 2008 NAIP air photo index, including aerial photo acquisition information by USGS 3.7 5-degree quarter-quadrangle, is available for query operations. At small to intermediate map scales, Landsat ETM Plus imagery displays. The NAIP aerial photography and Landsat satellite imagery display with partial transparency over Hillshade rasters derived from the US Geological Survey's 10-meter National Elevation Dataset (NED). DNR Recognizes the US Department of Agriculture for making this data available. For more information about this service, visit https://dnr.wisconsin.gov/feedback and click on Geographic Services Information.
Single Fused Map Cache: false
Extent:
XMin: 290442.0
YMin: 218089.0
XMax: 775065.0
YMax: 739778.0
Spatial Reference: 3071
(3071)
LatestVCSWkid(0)
Initial Extent:
XMin: 290442.0
YMin: 218089.0
XMax: 775065.0
YMax: 739778.0
Spatial Reference: 3071
(3071)
LatestVCSWkid(0)
Full Extent:
XMin: 290442.0
YMin: 218089.0
XMax: 775065.0
YMax: 739778.0
Spatial Reference: 3071
(3071)
LatestVCSWkid(0)
Pixel Size X: 1.0
Pixel Size Y: 1.0
Band Count: 3
Pixel Type: U8
RasterFunction Infos: {"rasterFunctionInfos": [{
"name": "None",
"description": "",
"help": ""
}]}
Mensuration Capabilities: Basic
Inspection Capabilities:
Has Histograms: false
Has Colormap: false
Has Multi Dimensions : false
Rendering Rule:
Min Scale: 0
Max Scale: 0
Resampling: false
Copyright Text:
Service Data Type: esriImageServiceDataTypeRGB
Min Values: N/A
Max Values: N/A
Mean Values: N/A
Standard Deviation Values: N/A
Object ID Field:
Fields:
None
Default Mosaic Method: Center
Allowed Mosaic Methods:
SortField:
SortValue: null
Mosaic Operator: First
Default Compression Quality: 75
Default Resampling Method: Nearest
Max Record Count: null
Max Image Height: 4100
Max Image Width: 15000
Max Download Image Count: null
Max Mosaic Image Count: null
Allow Raster Function: true
Allow Copy: true
Allow Analysis: true
Allow Compute TiePoints: false
Supports Statistics: false
Supports Advanced Queries: false
Use StandardizedQueries: true
Raster Type Infos:
Name: Raster Dataset
Description: Supports all ArcGIS Raster Datasets
Help:
Has Raster Attribute Table: false
Edit Fields Info: null
Ownership Based AccessControl For Rasters: null
Child Resources:
Info
Statistics
Key Properties
Legend
Raster Function Infos
Supported Operations:
Export Image
Identify
Measure
Compute Histograms
Compute Statistics Histograms
Get Samples
Compute Class Statistics
Query Boundary
Compute Pixel Location
Compute Angles
Validate
Project