View In:
ArcGIS JavaScript
ArcGIS Online Map Viewer
ArcGIS Earth
Service Description: Imagery primarily downloaded from Wisconsin State Cartographer's Office and georeferenced by various DNR staff, using ArcGIS desktop software. This imagery was primarily flown between 1937 and 1941.
This service is for reference only. It is not georeferenced using DEM sources and may vary in quality from image to image as it was georeferenced by various DNR staff for program business needs. Collars may exist in some of the image files used in this service.
Name: DW_Imagery/EN_Image_Basemap_1930s_Leaf_On
Description: Imagery primarily downloaded from Wisconsin State Cartographer's Office and georeferenced by various DNR staff, using ArcGIS desktop software. This imagery was primarily flown between 1937 and 1941.
This service is for reference only. It is not georeferenced using DEM sources and may vary in quality from image to image as it was georeferenced by various DNR staff for program business needs. Collars may exist in some of the image files used in this service.
Single Fused Map Cache: false
Extent:
XMin: -5.05378469824791E-4
YMin: -0.0010809839004650712
XMax: 770463.3428279549
YMax: 730036.2372523495
Spatial Reference: 3071
(3071)
LatestVCSWkid(0)
Initial Extent:
XMin: -5.05378469824791E-4
YMin: -0.0010809839004650712
XMax: 770463.3428279549
YMax: 730036.2372523495
Spatial Reference: 3071
(3071)
LatestVCSWkid(0)
Full Extent:
XMin: -5.05378469824791E-4
YMin: -0.0010809839004650712
XMax: 770463.3428279549
YMax: 730036.2372523495
Spatial Reference: 3071
(3071)
LatestVCSWkid(0)
Pixel Size X: 0.0016666666666666668
Pixel Size Y: 0.0016666666666666668
Band Count: 1
Pixel Type: U8
RasterFunction Infos: {"rasterFunctionInfos": [{
"name": "None",
"description": "",
"help": ""
}]}
Mensuration Capabilities: NONE
Inspection Capabilities:
Has Histograms: true
Has Colormap: false
Has Multi Dimensions : false
Rendering Rule:
Min Scale: 0
Max Scale: 0
Resampling: false
Copyright Text: SCO
Service Data Type: esriImageServiceDataTypeGeneric
Min Values: 0
Max Values: 255
Mean Values: 108.68187043423426
Standard Deviation Values: 44.69466726747089
Object ID Field: OBJECTID
Fields:
-
OBJECTID
(
type: esriFieldTypeOID, alias: OBJECTID
)
-
Shape
(
type: esriFieldTypeGeometry, alias: Shape
)
-
Name
(
type: esriFieldTypeString, alias: Name, length: 200
)
-
MinPS
(
type: esriFieldTypeDouble, alias: MinPS
)
-
MaxPS
(
type: esriFieldTypeDouble, alias: MaxPS
)
-
LowPS
(
type: esriFieldTypeDouble, alias: LowPS
)
-
HighPS
(
type: esriFieldTypeDouble, alias: HighPS
)
-
Category
(
type: esriFieldTypeInteger, alias: Category
, Coded Values:
[0: Unknown]
, [1: Primary]
, [2: Overview]
, ...6 more...
)
-
Tag
(
type: esriFieldTypeString, alias: Tag, length: 100
)
-
GroupName
(
type: esriFieldTypeString, alias: GroupName, length: 100
)
-
ProductName
(
type: esriFieldTypeString, alias: ProductName, length: 100
)
-
CenterX
(
type: esriFieldTypeDouble, alias: CenterX
)
-
CenterY
(
type: esriFieldTypeDouble, alias: CenterY
)
-
ZOrder
(
type: esriFieldTypeInteger, alias: ZOrder
)
-
Shape_Length
(
type: esriFieldTypeDouble, alias: Shape_Length
)
-
Shape_Area
(
type: esriFieldTypeDouble, alias: Shape_Area
)
Default Mosaic Method: Center
Allowed Mosaic Methods: Center,NorthWest,Nadir,Viewpoint,Seamline,None,LockRaster,ByAttribute
SortField:
SortValue: null
Mosaic Operator: First
Default Compression Quality: 75
Default Resampling Method: Nearest
Max Record Count: 1000
Max Image Height: 4100
Max Image Width: 15000
Max Download Image Count: 20
Max Mosaic Image Count: 20
Allow Raster Function: true
Allow Copy: true
Allow Analysis: true
Allow Compute TiePoints: false
Supports Statistics: true
Supports Advanced Queries: true
Use StandardizedQueries: true
Raster Type Infos:
Name: Raster Dataset
Description: Supports all ArcGIS Raster Datasets
Help:
Has Raster Attribute Table: false
Edit Fields Info: null
Ownership Based AccessControl For Rasters: null
Child Resources:
Info
Histograms
Statistics
Key Properties
Legend
Raster Function Infos
Supported Operations:
Export Image
Query
Identify
Measure
Compute Histograms
Compute Statistics Histograms
Get Samples
Compute Class Statistics
Query GPS Info
Find Images
Image to Map
Map to Image
Measure from Image
Image to Map Multiray
Query Boundary
Compute Pixel Location
Compute Angles
Validate
Project