{
 "currentVersion": 10.91,
 "serviceDescription": "Temperature distribution across the City of Milwaukee on the evening (7 \u2013 8pm) of July 21, 2022.",
 "name": "FR_URBAN_FORESTRY/FR_Air_Temp_2022_Summer_Evening_Milwaukee",
 "description": "Temperature distribution across the City of Milwaukee on the evening (7 \u2013 8pm) of July 21, 2022.",
 "extent": {
  "xmin": 674045.7766376397,
  "ymin": 271106.526874152,
  "xmax": 697115.7766376397,
  "ymax": 307436.526874152,
  "spatialReference": {
   "wkid": 3071,
   "latestWkid": 3071
  }
 },
 "initialExtent": {
  "xmin": 674045.7766376397,
  "ymin": 271106.526874152,
  "xmax": 697115.7766376397,
  "ymax": 307436.526874152,
  "spatialReference": {
   "wkid": 3071,
   "latestWkid": 3071
  }
 },
 "fullExtent": {
  "xmin": 674045.7766376397,
  "ymin": 271106.526874152,
  "xmax": 697115.7766376397,
  "ymax": 307436.526874152,
  "spatialReference": {
   "wkid": 3071,
   "latestWkid": 3071
  }
 },
 "hasMultidimensions": false,
 "pixelSizeX": 10,
 "pixelSizeY": 10,
 "datasetFormat": "TIFF",
 "uncompressedSize": 33525324,
 "blockWidth": 128,
 "blockHeight": 128,
 "compressionType": "LZW",
 "bandNames": [
  "Band_1"
 ],
 "allowCopy": true,
 "allowAnalysis": true,
 "bandCount": 1,
 "noDataValue": -3.3999999521443642E38,
 "noDataValues": [
  -3.3999999521443642E38
 ],
 "pixelType": "F32",
 "minPixelSize": 0,
 "maxPixelSize": 0,
 "copyrightText": "",
 "serviceDataType": "esriImageServiceDataTypeGeneric",
 "serviceSourceType": "esriImageServiceSourceTypeDataset",
 "minValues": [
  77.921478271484
 ],
 "maxValues": [
  87.679374694824
 ],
 "meanValues": [
  84.714388089653
 ],
 "stdvValues": [
  1.1146516158474
 ],
 "objectIdField": "",
 "fields": [],
 "capabilities": "Image,Metadata,Mensuration",
 "defaultMosaicMethod": "Center",
 "allowedMosaicMethods": "",
 "sortField": "",
 "sortValue": null,
 "sortAscending": true,
 "mosaicOperator": "First",
 "defaultCompressionQuality": 75,
 "defaultResamplingMethod": "Bilinear",
 "maxImageHeight": 4100,
 "maxImageWidth": 15000,
 "allowRasterFunction": true,
 "rasterFunctionInfos": [
  {
   "name": "None",
   "description": "",
   "help": ""
  }
 ],
 "rasterTypeInfos": [
  {
   "name": "Raster Dataset",
   "description": "Supports all ArcGIS Raster Datasets",
   "help": ""
  }
 ],
 "mensurationCapabilities": "Basic",
 "hasHistograms": true,
 "hasColormap": false,
 "hasRasterAttributeTable": false,
 "minScale": 0,
 "maxScale": 0,
 "exportTilesAllowed": false,
 "supportsStatistics": false,
 "supportsAdvancedQueries": false,
 "editFieldsInfo": null,
 "ownershipBasedAccessControlForRasters": null,
 "allowComputeTiePoints": false,
 "useStandardizedQueries": true,
 "advancedQueryCapabilities": {
  "useStandardizedQueries": true,
  "supportsStatistics": false,
  "supportsOrderBy": false,
  "supportsDistinct": false,
  "supportsPagination": false
 },
 "spatialReference": {
  "wkid": 3071,
  "latestWkid": 3071
 }
}
