{
 "currentVersion": 11.3,
 "serviceDescription": "Image service displaying Slope for LiDAR-derived DEMs (expressed in Degrees) for all counties in Wisconsin and along the shore of Lake Michigan, last updated May 7, 2024. A Slope Raster Function was applied to the Referenced Mosaic Dataset used to publish this service, with the Slope function Output Measurement set to DEGREE, and a Z factor of 1. \n\nThe data sources are county-produced LiDAR with a range of flight years and DEM resolution, along with topobathy data provided by National Oceanic and Atmospheric Administration (NOAA).\n\nCounties with 3-Meter resolution DEMs: Waupaca (2005). \n\nCounties with 2-meter resolution DEMs: Fond du Lac (2011) and Green Lake (2009)\n\nCounties with 1-meter resolution DEMs: Ashland (2014) within the Bad River Reservation, Barron (2019), Buffalo (2016), Clark (2018), Dane (2017), Dodge (2017), Door (2018), Dunn (2019), Forest (2017), Iron (2015) within the Bad River Reservation, Kenosha (2017), La Crosse (2017), Lincoln (2015), Manitowoc (2015), Marquette (2018), Oconto (2019), Oneida inside the Lac du Flambeau Reservation (2013), Outagamie (2018), Ozaukee (2015), Portage (2016), Racine (2017), Shawano (2016), Sheboygan (2019), Taylor (2016), Vilas inside the Lac du Flambeau Reservation (2013), Walworth (2015), Washburn (2016), Washington (2015), Waukesha (2015). \n\nCounties with 2-foot resolution DEM: Adams (2019), Ashland (2019) outside the Bad River Reservation, Calumet (2018), Chippewa (2020), Columbia (2020), Crawford (2021), Green (2022), Eau Claire (2020), Florence (2019), Grant (2020), Iron (2019) outside the Bad River Reservation, Iowa (2022), Jefferson (2019), Juneau (2021), Kewaunee (2021), Lafayette (2019), Langlade (2017), Marathon (2021), Marinette (2021), Menominee (2020), Monroe (2019), Pepin (2019), Pierce (2021), Polk (2022), Price (2018), Richland (2021), Rock (2020), Rusk (2020), Sauk (2020), Sawyer (2017), St Croix (2021), Vernon (2020), Waushara (2017), Winnebago (2022), also the City of Oshkosh and portions of adjacent Townships (2019). \n\nCounties with 1-foot resolution DEM: Bayfield (2022), Brown (2021), Burnett (2022), Douglas (2022), Jackson (2022), Milwaukee (2020), Oneida and Vilas outside of the Lac du Flambeau Reservation (2022), and Wood (2022). \n\nTobobathy data along the Lake Michigan shoreline (2020). Some gaps or data holidays exist in the topobathy data coverage due to a number of operational and environmental conditions. See https://www.fisheries.noaa.gov/inport/item/71376, Data Quality tab for more information.\n\nElevation units are Meters. The Vertical Datum for the county DEMs is NAVD88, Vertical Datum for Lake Michigan is IGLD 1985 height. \n\nWI DNR acknowledges the NRCS, USGS, FEMA, NOAA, US Army Corps of Engineers, the Southeastern WI Regional Planning Commission, and the individual counties listed above, for making source data available. \nFor more information, visit https://dnr.wisconsin.gov/feedback and click on Geographic Services Information.",
 "name": "DW_Elevation/EN_Slope_from_LiDAR_Degree",
 "description": "Image service displaying Slope for LiDAR-derived DEMs (expressed in Degrees) for all counties in Wisconsin and along the shore of Lake Michigan, last updated May 7, 2024. A Slope Raster Function was applied to the Referenced Mosaic Dataset used to publish this service, with the Slope function Output Measurement set to DEGREE, and a Z factor of 1. \n\nThe data sources are county-produced LiDAR with a range of flight years and DEM resolution, along with topobathy data provided by National Oceanic and Atmospheric Administration (NOAA).\n\nCounties with 3-Meter resolution DEMs: Waupaca (2005). \n\nCounties with 2-meter resolution DEMs: Fond du Lac (2011) and Green Lake (2009)\n\nCounties with 1-meter resolution DEMs: Ashland (2014) within the Bad River Reservation, Barron (2019), Buffalo (2016), Clark (2018), Dane (2017), Dodge (2017), Door (2018), Dunn (2019), Forest (2017), Iron (2015) within the Bad River Reservation, Kenosha (2017), La Crosse (2017), Lincoln (2015), Manitowoc (2015), Marquette (2018), Oconto (2019), Oneida inside the Lac du Flambeau Reservation (2013), Outagamie (2018), Ozaukee (2015), Portage (2016), Racine (2017), Shawano (2016), Sheboygan (2019), Taylor (2016), Vilas inside the Lac du Flambeau Reservation (2013), Walworth (2015), Washburn (2016), Washington (2015), Waukesha (2015). \n\nCounties with 2-foot resolution DEM: Adams (2019), Ashland (2019) outside the Bad River Reservation, Calumet (2018), Chippewa (2020), Columbia (2020), Crawford (2021), Green (2022), Eau Claire (2020), Florence (2019), Grant (2020), Iron (2019) outside the Bad River Reservation, Iowa (2022), Jefferson (2019), Juneau (2021), Kewaunee (2021), Lafayette (2019), Langlade (2017), Marathon (2021), Marinette (2021), Menominee (2020), Monroe (2019), Pepin (2019), Pierce (2021), Polk (2022), Price (2018), Richland (2021), Rock (2020), Rusk (2020), Sauk (2020), Sawyer (2017), St Croix (2021), Vernon (2020), Waushara (2017), Winnebago (2022), also the City of Oshkosh and portions of adjacent Townships (2019). \n\nCounties with 1-foot resolution DEM: Bayfield (2022), Brown (2021), Burnett (2022), Douglas (2022), Jackson (2022), Milwaukee (2020), Oneida and Vilas outside of the Lac du Flambeau Reservation (2022), and Wood (2022). \n\nTobobathy data along the Lake Michigan shoreline (2020). Some gaps or data holidays exist in the topobathy data coverage due to a number of operational and environmental conditions. See https://www.fisheries.noaa.gov/inport/item/71376, Data Quality tab for more information.\n\nElevation units are Meters. The Vertical Datum for the county DEMs is NAVD88, Vertical Datum for Lake Michigan is IGLD 1985 height. \n\nWI DNR acknowledges the NRCS, USGS, FEMA, NOAA, US Army Corps of Engineers, the Southeastern WI Regional Planning Commission, and the individual counties listed above, for making source data available. \nFor more information, visit https://dnr.wisconsin.gov/feedback and click on Geographic Services Information.",
 "extent": {
  "xmin": 291897.37550000043,
  "ymin": 198276.50489999953,
  "xmax": 778040.1755000005,
  "ymax": 721481.0048999996,
  "spatialReference": {
   "wkid": 3071,
   "latestWkid": 3071
  }
 },
 "initialExtent": {
  "xmin": 291897.37550000043,
  "ymin": 198276.50489999953,
  "xmax": 778040.1755000005,
  "ymax": 721481.0048999996,
  "spatialReference": {
   "wkid": 3071,
   "latestWkid": 3071
  }
 },
 "fullExtent": {
  "xmin": 291897.37550000043,
  "ymin": 198276.50489999953,
  "xmax": 778040.1755000005,
  "ymax": 721481.0048999996,
  "spatialReference": {
   "wkid": 3071,
   "latestWkid": 3071
  }
 },
 "sortableFields": "",
 "bandCount": 1,
 "pixelType": "F32",
 "minValues": [
  0
 ],
 "maxValues": [
  9.31902027130127
 ],
 "meanValues": [
  0.7142994155720275
 ],
 "stdvValues": [
  0.7651241939384208
 ],
 "hasMultidimensions": false,
 "pixelSizeX": 0.30000000000000004,
 "pixelSizeY": 0.30000000000000004,
 "meanPixelSize": 0.30000000000000004,
 "datasetFormat": "AMD",
 "uncompressedSize": 11304537804560,
 "blockWidth": 2048,
 "blockHeight": 256,
 "compressionType": "None",
 "bandNames": [
  "Band_1"
 ],
 "allowCopy": true,
 "allowAnalysis": true,
 "itemAccess": false,
 "inspectionCapabilities": "",
 "minPixelSize": 0,
 "maxPixelSize": 0,
 "copyrightText": "",
 "serviceDataType": "esriImageServiceDataTypeGeneric",
 "serviceSourceType": "esriImageServiceSourceTypeMosaicDataset",
 "objectIdField": "OBJECTID",
 "fields": [
  {
   "name": "OBJECTID",
   "type": "esriFieldTypeOID",
   "alias": "OBJECTID",
   "domain": null
  },
  {
   "name": "Shape",
   "type": "esriFieldTypeGeometry",
   "alias": "Shape",
   "domain": null
  },
  {
   "name": "Name",
   "type": "esriFieldTypeString",
   "alias": "Name",
   "domain": null,
   "length": 200
  },
  {
   "name": "MinPS",
   "type": "esriFieldTypeDouble",
   "alias": "MinPS",
   "domain": null
  },
  {
   "name": "MaxPS",
   "type": "esriFieldTypeDouble",
   "alias": "MaxPS",
   "domain": null
  },
  {
   "name": "LowPS",
   "type": "esriFieldTypeDouble",
   "alias": "LowPS",
   "domain": null
  },
  {
   "name": "HighPS",
   "type": "esriFieldTypeDouble",
   "alias": "HighPS",
   "domain": null
  },
  {
   "name": "Category",
   "type": "esriFieldTypeInteger",
   "alias": "Category",
   "domain": {
    "type": "codedValue",
    "name": "MosaicCatalogItemCategoryDomain",
    "description": "Catalog item categories.",
    "codedValues": [
     {
      "name": "Unknown",
      "code": 0
     },
     {
      "name": "Primary",
      "code": 1
     },
     {
      "name": "Overview",
      "code": 2
     },
     {
      "name": "Unprocessed Overview",
      "code": 3
     },
     {
      "name": "Partial Overview",
      "code": 4
     },
     {
      "name": "Inactive",
      "code": 5
     },
     {
      "name": "Uploaded",
      "code": 253
     },
     {
      "name": "Incomplete",
      "code": 254
     },
     {
      "name": "Custom",
      "code": 255
     }
    ],
    "mergePolicy": "esriMPTDefaultValue",
    "splitPolicy": "esriSPTDefaultValue"
   }
  },
  {
   "name": "Tag",
   "type": "esriFieldTypeString",
   "alias": "Tag",
   "domain": null,
   "length": 100
  },
  {
   "name": "GroupName",
   "type": "esriFieldTypeString",
   "alias": "GroupName",
   "domain": null,
   "length": 100
  },
  {
   "name": "ProductName",
   "type": "esriFieldTypeString",
   "alias": "ProductName",
   "domain": null,
   "length": 100
  },
  {
   "name": "CenterX",
   "type": "esriFieldTypeDouble",
   "alias": "CenterX",
   "domain": null
  },
  {
   "name": "CenterY",
   "type": "esriFieldTypeDouble",
   "alias": "CenterY",
   "domain": null
  },
  {
   "name": "ZOrder",
   "type": "esriFieldTypeInteger",
   "alias": "ZOrder",
   "domain": null
  },
  {
   "name": "Shape_Length",
   "type": "esriFieldTypeDouble",
   "alias": "Shape_Length",
   "domain": null
  },
  {
   "name": "Shape_Area",
   "type": "esriFieldTypeDouble",
   "alias": "Shape_Area",
   "domain": null
  }
 ],
 "capabilities": "Catalog,Mensuration,Image,Metadata",
 "defaultMosaicMethod": "Northwest",
 "allowedMosaicMethods": "NorthWest,Center,LockRaster,ByAttribute,Nadir,Viewpoint,Seamline,None",
 "sortField": "",
 "sortValue": null,
 "sortAscending": true,
 "mosaicOperator": "First",
 "maxDownloadSizeLimit": 2048,
 "defaultCompressionQuality": 75,
 "defaultResamplingMethod": "Bilinear",
 "maxImageHeight": 4100,
 "maxImageWidth": 15000,
 "maxRecordCount": 1000,
 "maxDownloadImageCount": 20,
 "maxMosaicImageCount": 20,
 "allowRasterFunction": true,
 "rasterFunctionInfos": [
  {
   "name": "SlopeDeg_StandardDev_CurrentDisplay",
   "description": "A raster function template.",
   "help": ""
  },
  {
   "name": "None",
   "description": "",
   "help": ""
  }
 ],
 "rasterTypeInfos": [
  {
   "name": "Raster Dataset",
   "description": "Supports all ArcGIS Raster Datasets",
   "help": ""
  }
 ],
 "mensurationCapabilities": "Basic",
 "hasHistograms": true,
 "hasColormap": false,
 "hasRasterAttributeTable": false,
 "minScale": 0,
 "maxScale": 0,
 "exportTilesAllowed": false,
 "supportsStatistics": true,
 "supportsAdvancedQueries": true,
 "editFieldsInfo": null,
 "ownershipBasedAccessControlForRasters": null,
 "allowComputeTiePoints": false,
 "useStandardizedQueries": true,
 "advancedQueryCapabilities": {
  "useStandardizedQueries": true,
  "supportsStatistics": true,
  "supportsOrderBy": true,
  "supportsDistinct": true,
  "supportsPagination": true
 },
 "spatialReference": {
  "wkid": 3071,
  "latestWkid": 3071
 },
 "resampling": false
}
